BEGIN:VCALENDAR
METHOD:CANCEL
PRODID:Microsoft Exchange Server 2010
VERSION:2.0
BEGIN:VTIMEZONE
TZID:Pacific Standard Time
BEGIN:STANDARD
DTSTART:16010101T020000
TZOFFSETFROM:-0700
TZOFFSETTO:-0800
RRULE:FREQ=YEARLY;INTERVAL=1;BYDAY=1SU;BYMONTH=11
END:STANDARD
BEGIN:DAYLIGHT
DTSTART:16010101T020000
TZOFFSETFROM:-0800
TZOFFSETTO:-0700
RRULE:FREQ=YEARLY;INTERVAL=1;BYDAY=2SU;BYMONTH=3
END:DAYLIGHT
END:VTIMEZONE
BEGIN:VEVENT
ORGANIZER;CN=Karen Power;SENT-BY="mailto:Dan.Handley@arm.com":mailto:karen.po
 wer@linaro.org
ATTENDEE;ROLE=REQ-PARTICIPANT;PARTSTAT=NEEDS-ACTION;RSVP=FALSE;CN=tsc@lists
 .trustedfirmware.org:mailto:tsc@lists.trustedfirmware.org
ATTACH:CID:3EF4BC80D7751F449610B12BD1B31F86@eurprd08.prod.outlook.com
ATTACH:CID:CAAF76F8DEDDFE42AE6CE332D7BE9C9B@eurprd08.prod.outlook.com
DESCRIPTION;LANGUAGE=en-US:FYI in case you didn’t receive the earlier can
 cellation. Today’s TSC meeting is cancelled.\n\nRegards\n\nDan.\n\n-----
 Original Appointment-----\nFrom: Karen Power via Tsc-private <tsc-private@
 lists.trustedfirmware.org<mailto:tsc-private@lists.trustedfirmware.org>> O
 n Behalf Of Karen Power\nSent: Wednesday\, January 15\, 2025 2:18 PM\nTo: 
 Karen Power\; Dan Handley\; Eric Finco (eric.finco@st.com<mailto:eric.finc
 o@st.com>)\; lionel.debieve@st.com<mailto:lionel.debieve@st.com>\; kangkan
 g.shen@gmail.com<mailto:kangkang.shen@gmail.com>\; Antonio De Angelis\; Do
 n Harbin\; jwerner@google.com<mailto:jwerner@google.com>\; David Brown (da
 vid.brown@linaro.org<mailto:david.brown@linaro.org>)\; davidb@quicinc.com<
 mailto:davidb@quicinc.com>\; kangkang.shen@futurewei.com<mailto:kangkang.s
 hen@futurewei.com>\; frank.kvamtro@nordicsemi.no<mailto:frank.kvamtro@nord
 icsemi.no>\; bpeckham@google.com<mailto:bpeckham@google.com>\; brandon.hus
 sey@renesas.com<mailto:brandon.hussey@renesas.com>\; moritzf@google.com<ma
 ilto:moritzf@google.com>\; palmer@google.com<mailto:palmer@google.com>\; a
 fd@ti.com<mailto:afd@ti.com>\; praneeth@ti.com<mailto:praneeth@ti.com>\; R
 uchika Gupta\; Camille Greusard\; pierre-julien.bringer@provenrun.com<mail
 to:pierre-julien.bringer@provenrun.com>\; dominik.ermel@nordicsemi.no<mail
 to:dominik.ermel@nordicsemi.no>\; Andrej Butok\; tsc-private@lists.trusted
 firmware.org<mailto:tsc-private@lists.trustedfirmware.org>\; Michael Thoma
 s\; kamlesh@ti.com<mailto:kamlesh@ti.com>\nCc: Shebu Varghese Kuriakose\; 
 Joanna Farley\; Matteo Carlini\nSubject: [Tsc-private] Cancelled event wit
 h note: TrustedFirmware TSC @ Thu 16 Jan 2025 12pm - 12:55pm (EST) (tsc-pr
 ivate@lists.trustedfirmware.org<mailto:tsc-private@lists.trustedfirmware.o
 rg>)\nWhen: 16 January 2025 09:00-09:55 America/Los_Angeles.\nWhere: zoom 
 see below\n\nTrustedFirmware TSC\n\n\nThis event has been cancelled with a
  note:\n"Meeting cancelled as not enough time has passed since everyone re
 turned from the holidays. "\n\n\n\nTrusted Firmware is inviting you to a s
 cheduled Zoom meeting.\n\nTopic: TrustedFirmware TSC\nTime: Feb 15\, 2024 
 05:00 PM London\n        Every month on the Third Thu\, 20 occurrence(s)\n
         Feb 15\, 2024 05:00 PM\n        Mar 21\, 2024 05:00 PM\n        Ap
 r 18\, 2024 05:00 PM\n        May 16\, 2024 05:00 PM\n        Jun 20\, 202
 4 05:00 PM\n        Jul 18\, 2024 05:00 PM\n        Aug 15\, 2024 05:00 PM
 \n        Sep 19\, 2024 05:00 PM\n        Oct 17\, 2024 05:00 PM\n        
 Nov 21\, 2024 05:00 PM\n        Dec 19\, 2024 05:00 PM\n        Jan 16\, 2
 025 05:00 PM\n        Feb 20\, 2025 05:00 PM\n        Mar 20\, 2025 05:00 
 PM\n        Apr 17\, 2025 05:00 PM\n        May 15\, 2025 05:00 PM\n      
   Jun 19\, 2025 05:00 PM\n        Jul 17\, 2025 05:00 PM\n        Aug 21\,
  2025 05:00 PM\n        Sep 18\, 2025 05:00 PM\nPlease download and import
  the following iCalendar (.ics) files to your calendar system.\nMonthly: h
 ttps://linaro-org.zoom.us/meeting/tJYpdO6pqjwtE9ItoYR_-W2AvXKbkkhzuUvg/ics
 ?icsToken=98tyKuCqqjgtG9CStxCBRowQBojCKOvwiGZaj_p0iBDcMR8eVVHXINppMLl0GMLF
 <https://www.google.com/url?q=https%3A%2F%2Flinaro-org.zoom.us%2Fmeeting%2
 FtJYpdO6pqjwtE9ItoYR_-W2AvXKbkkhzuUvg%2Fics%3FicsToken%3D98tyKuCqqjgtG9CSt
 xCBRowQBojCKOvwiGZaj_p0iBDcMR8eVVHXINppMLl0GMLF&sa=D&ust=1737382620000000&
 usg=AOvVaw030Q84GSBcVsMQ_5ZOzy59>\n\nJoin Zoom Meeting\nhttps://linaro-org
 .zoom.us/j/92437147796?pwd=NXd1a1U2eGlnZkNiUTB1T0xnYzB5Zz09<https://www.go
 ogle.com/url?q=https%3A%2F%2Flinaro-org.zoom.us%2Fj%2F92437147796%3Fpwd%3D
 NXd1a1U2eGlnZkNiUTB1T0xnYzB5Zz09&sa=D&ust=1737382620000000&usg=AOvVaw2EOGf
 JFGuXJBnKLPmlTBp2>\n\nMeeting ID: 924 3714 7796\nPasscode: 100152\n\n---\n
 \nOne tap mobile\n+16699009128\,\,92437147796# US (San Jose)\n+17193594580
 \,\,92437147796# US\n\n---\n\nDial by your location\n• +1 669 900 9128 U
 S (San Jose)\n• +1 719 359 4580 US\n• +1 253 205 0468 US\n• +1 253 2
 15 8782 US (Tacoma)\n• +1 346 248 7799 US (Houston)\n• +1 669 444 9171
  US\n• +1 564 217 2000 US\n• +1 646 558 8656 US (New York)\n• +1 646
  931 3860 US\n• +1 689 278 1000 US\n• +1 301 715 8592 US (Washington D
 C)\n• +1 305 224 1968 US\n• +1 309 205 3325 US\n• +1 312 626 6799 US
  (Chicago)\n• +1 360 209 5623 US\n• +1 386 347 5053 US\n• +1 507 473
  4847 US\n• 833 548 0276 US Toll-free\n• 833 548 0282 US Toll-free\n
 • 833 928 4608 US Toll-free\n• 833 928 4609 US Toll-free\n• 833 928 
 4610 US Toll-free\n• 877 853 5247 US Toll-free\n• 888 788 0099 US Toll
 -free\n\nMeeting ID: 924 3714 7796\n\nFind your local number: https://lina
 ro-org.zoom.us/u/abwnK0XVLY<https://www.google.com/url?q=https%3A%2F%2Flin
 aro-org.zoom.us%2Fu%2FabwnK0XVLY&sa=D&ust=1737382620000000&usg=AOvVaw2xUxB
 B3RqZWmkJbgpEEacM>\nWhen\nThursday 16 Jan 2025 ⋅ 12pm – 12:55pm (Easte
 rn Time - Toronto)\nLocation\nzoom see below\nView map<https://www.google.
 com/maps/search/zoom+see+below?hl=en-GB>\nGuests\nKaren Power<mailto:karen
 .power@linaro.org>- organiser\nDon Harbin<mailto:don.harbin@linaro.org>- c
 reator\ndan.handley@arm.com<mailto:dan.handley@arm.com>\neric.finco@st.com
 <mailto:eric.finco@st.com>\nlionel.debieve@st.com<mailto:lionel.debieve@st
 .com>\nkangkang.shen@gmail.com<mailto:kangkang.shen@gmail.com>\nantonio.de
 angelis@arm.com<mailto:antonio.deangelis@arm.com>\njwerner@google.com<mail
 to:jwerner@google.com>\nDavid Brown<mailto:david.brown@linaro.org>\ndavidb
 @quicinc.com<mailto:davidb@quicinc.com>\nkangkang.shen@futurewei.com<mailt
 o:kangkang.shen@futurewei.com>\nfrank.kvamtro@nordicsemi.no<mailto:frank.k
 vamtro@nordicsemi.no>\nbpeckham@google.com<mailto:bpeckham@google.com>\nbr
 andon.hussey@renesas.com<mailto:brandon.hussey@renesas.com>\nmoritzf@googl
 e.com<mailto:moritzf@google.com>\npalmer@google.com<mailto:palmer@google.c
 om>\nafd@ti.com<mailto:afd@ti.com>\npraneeth@ti.com<mailto:praneeth@ti.com
 >\nRuchika Gupta<mailto:ruchika.gupta_1@nxp.com>\nCamille Greusard<mailto:
 camille.greusard@provenrun.com>\npierre-julien.bringer@provenrun.com<mailt
 o:pierre-julien.bringer@provenrun.com>\ndominik.ermel@nordicsemi.no<mailto
 :dominik.ermel@nordicsemi.no>\nAndrej Butok<mailto:andrey.butok@nxp.com>\n
 tsc-private@lists.trustedfirmware.org<mailto:tsc-private@lists.trustedfirm
 ware.org>\nMichael Thomas<mailto:michael.thomas@renesas.com>\nkamlesh@ti.c
 om<mailto:kamlesh@ti.com>\nshebu.varghesekuriakose@arm.com<mailto:shebu.va
 rghesekuriakose@arm.com> - optional\njoanna.farley@arm.com<mailto:joanna.f
 arley@arm.com> - optional\nmatteo.carlini@arm.com<mailto:matteo.carlini@ar
 m.com> - optional\n\n\nInvitation from Google Calendar<https://calendar.go
 ogle.com/calendar/>\n\nYou are receiving this email because you are an att
 endee of the event.\n\nForwarding this invitation could allow any recipien
 t to send a response to the organiser\, be added to the guest list\, invit
 e others regardless of their own invitation status or modify your RSVP. Le
 arn more<https://support.google.com/calendar/answer/37135#forwarding>\n\n
UID:6gk0rrgim44qhmifh5tcjfjf0h_R20241219T170000@google.com
RECURRENCE-ID;TZID=Pacific Standard Time:20250116T090000
SUMMARY;LANGUAGE=en-US:FW: [Tsc-private] Cancelled event with note: Trusted
 Firmware TSC @ Thu 16 Jan 2025 12pm - 12:55pm (EST) (tsc-private@lists.tru
 stedfirmware.org)
DTSTART;TZID=Pacific Standard Time:20250116T090000
DTEND;TZID=Pacific Standard Time:20250116T095500
CLASS:PUBLIC
PRIORITY:5
DTSTAMP:20250115T141744Z
TRANSP:OPAQUE
STATUS:CANCELLED
SEQUENCE:1
LOCATION;LANGUAGE=en-US:zoom see below
X-MICROSOFT-CDO-APPT-SEQUENCE:1
X-MICROSOFT-CDO-OWNERAPPTID:0
X-MICROSOFT-CDO-BUSYSTATUS:TENTATIVE
X-MICROSOFT-CDO-INTENDEDSTATUS:FREE
X-MICROSOFT-CDO-ALLDAYEVENT:FALSE
X-MICROSOFT-CDO-IMPORTANCE:1
X-MICROSOFT-CDO-INSTTYPE:3
X-MICROSOFT-DONOTFORWARDMEETING:FALSE
X-MICROSOFT-DISALLOW-COUNTER:FALSE
X-MICROSOFT-REQUESTEDATTENDANCEMODE:DEFAULT
X-MICROSOFT-ISRESPONSEREQUESTED:FALSE
END:VEVENT
END:VCALENDAR
