BEGIN:VCALENDAR
METHOD:REPLY
PRODID:Microsoft Exchange Server 2010
VERSION:2.0
BEGIN:VTIMEZONE
TZID:GMT Standard Time
BEGIN:STANDARD
DTSTART:16010101T020000
TZOFFSETFROM:+0100
TZOFFSETTO:+0000
RRULE:FREQ=YEARLY;INTERVAL=1;BYDAY=-1SU;BYMONTH=10
END:STANDARD
BEGIN:DAYLIGHT
DTSTART:16010101T010000
TZOFFSETFROM:+0000
TZOFFSETTO:+0100
RRULE:FREQ=YEARLY;INTERVAL=1;BYDAY=-1SU;BYMONTH=3
END:DAYLIGHT
END:VTIMEZONE
BEGIN:VEVENT
ATTENDEE;PARTSTAT=DECLINED;CN=Dan Handley:mailto:Dan.Handley@arm.com
COMMENT;LANGUAGE=en-US:Sorry I can’t make this one – I’m at an Arm in
 ternal conference.\n
RRULE:FREQ=WEEKLY;INTERVAL=2;BYDAY=WE;WKST=SU
EXDATE;TZID=GMT Standard Time:20250514T160000,20250625T160000
UID:14o90lmvssksgeqplrobfp5cpt@google.com
RECURRENCE-ID;TZID=GMT Standard Time:20250709T160000
SUMMARY;LANGUAGE=en-US:Declined: 1-1 Shaun/Dan/Antonio
DTSTART;TZID=GMT Standard Time:20250709T160000
DTEND;TZID=GMT Standard Time:20250709T163000
CLASS:PUBLIC
PRIORITY:5
DTSTAMP:20250707T145205Z
TRANSP:OPAQUE
STATUS:CONFIRMED
SEQUENCE:0
LOCATION;LANGUAGE=en-US:
X-MICROSOFT-CDO-APPT-SEQUENCE:0
X-MICROSOFT-CDO-OWNERAPPTID:265073100
X-MICROSOFT-CDO-BUSYSTATUS:BUSY
X-MICROSOFT-CDO-INTENDEDSTATUS:BUSY
X-MICROSOFT-CDO-ALLDAYEVENT:FALSE
X-MICROSOFT-CDO-IMPORTANCE:1
X-MICROSOFT-CDO-INSTTYPE:1
X-MICROSOFT-DONOTFORWARDMEETING:FALSE
X-MICROSOFT-DISALLOW-COUNTER:FALSE
X-MICROSOFT-REQUESTEDATTENDANCEMODE:DEFAULT
X-MICROSOFT-ISRESPONSEREQUESTED:FALSE
END:VEVENT
END:VCALENDAR
