BEGIN:VCALENDAR
PRODID:-//Google Inc//Google Calendar 70.9054//EN
VERSION:2.0
CALSCALE:GREGORIAN
METHOD:REQUEST
BEGIN:VTIMEZONE
TZID:Europe/London
X-LIC-LOCATION:Europe/London
BEGIN:DAYLIGHT
TZOFFSETFROM:+0000
TZOFFSETTO:+0100
TZNAME:BST
DTSTART:19700329T010000
RRULE:FREQ=YEARLY;BYMONTH=3;BYDAY=-1SU
END:DAYLIGHT
BEGIN:STANDARD
TZOFFSETFROM:+0100
TZOFFSETTO:+0000
TZNAME:GMT
DTSTART:19701025T020000
RRULE:FREQ=YEARLY;BYMONTH=10;BYDAY=-1SU
END:STANDARD
END:VTIMEZONE
BEGIN:VEVENT
DTSTART;TZID=Europe/London:20200416T070000
DTEND;TZID=Europe/London:20200416T080000
RRULE:FREQ=WEEKLY;WKST=MO;COUNT=2;INTERVAL=2;BYDAY=TH
DTSTAMP:20200413T155809Z
ORGANIZER;CN=Trusted Firmware Public Meetings:mailto:linaro.org_havjv2figrh
 5egaiurb229pd8c@group.calendar.google.com
UID:6bk6kslura8bs1dco39s88oeqv@google.com
ATTENDEE;CUTYPE=INDIVIDUAL;ROLE=REQ-PARTICIPANT;PARTSTAT=NEEDS-ACTION;RSVP=
 TRUE;CN=tf-m@lists.trustedfirmware.org;X-NUM-GUESTS=0:mailto:tf-m@lists.tru
 stedfirmware.org
ATTENDEE;CUTYPE=INDIVIDUAL;ROLE=REQ-PARTICIPANT;PARTSTAT=NEEDS-ACTION;RSVP=
 TRUE;CN=Bill Fletcher;X-NUM-GUESTS=0:mailto:bill.fletcher@linaro.org
X-MICROSOFT-CDO-OWNERAPPTID:170277890
CREATED:20200413T155548Z
DESCRIPTION:About TF-M Tech forum:<br><br><br>This is an open forum for any
 one to participate and it is not restricted to Trusted Firmware project mem
 bers. It will operate under the guidance of the TF TSC.<br><br>Feel free to
  forward it to colleagues.<br><br>Details of previous meetings are here:&nb
 sp\;<a href="https://www.trustedfirmware.org/meetings/tf-m-technical-forum/
 ">https://www.trustedfirmware.org/meetings/tf-m-technical-forum/</a><br><br
 >Trusted Firmware is inviting you to a scheduled Zoom meeting.<br><br>Join 
 Zoom Meeting<br><a href="https://zoom.us/j/9159704974">https://zoom.us/j/91
 59704974</a><br><br>Meeting ID: 915 970 4974<br><br>One tap mobile<br>+1646
 5588656\,\,9159704974# US (New York)<br>+16699009128\,\,9159704974# US (San
  Jose)<br><br>Dial by your location<br>&nbsp\; &nbsp\; &nbsp\; &nbsp\; +1 6
 46 558 8656 US (New York)<br>&nbsp\; &nbsp\; &nbsp\; &nbsp\; +1 669 900 912
 8 US (San Jose)<br>&nbsp\; &nbsp\; &nbsp\; &nbsp\; 877 853 5247 US Toll-fre
 e<br>&nbsp\; &nbsp\; &nbsp\; &nbsp\; 888 788 0099 US Toll-free<br>Meeting I
 D: 915 970 4974<br>Find your local number:&nbsp\;<a href="https://zoom.us/u
 /ad27hc6t7h" id="ow4092" __is_owner="true">https://zoom.us/u/ad27hc6t7h</a>
 \n\n-::~:~::~:~:~:~:~:~:~:~:~:~:~:~:~:~:~:~:~:~:~:~:~:~:~:~:~:~:~:~:~:~:~:~
 :~:~:~:~::~:~::-\nPlease do not edit this section of the description.\n\nVi
 ew your event at https://www.google.com/calendar/event?action=VIEW&eid=NmJr
 NmtzbHVyYThiczFkY28zOXM4OG9lcXYgdGYtbUBsaXN0cy50cnVzdGVkZmlybXdhcmUub3Jn&to
 k=NjMjbGluYXJvLm9yZ19oYXZqdjJmaWdyaDVlZ2FpdXJiMjI5cGQ4Y0Bncm91cC5jYWxlbmRhc
 i5nb29nbGUuY29tNTIzYTlhZDk2YWRhYjkwNjI5OGQwYmRiNTUwOWIxZTc4NmU0ZTAwYQ&ctz=E
 urope%2FLondon&hl=en_GB&es=1.\n-::~:~::~:~:~:~:~:~:~:~:~:~:~:~:~:~:~:~:~:~:
 ~:~:~:~:~:~:~:~:~:~:~:~:~:~:~:~:~:~::~:~::-
LAST-MODIFIED:20200413T155808Z
LOCATION:
SEQUENCE:1
STATUS:CONFIRMED
SUMMARY:TF-M Tech Forum
TRANSP:OPAQUE
END:VEVENT
END:VCALENDAR
