BEGIN:VCALENDAR
PRODID:-//Google Inc//Google Calendar 70.9054//EN
VERSION:2.0
CALSCALE:GREGORIAN
METHOD:REQUEST
BEGIN:VEVENT
DTSTART:20201001T060000Z
DTEND:20201001T070000Z
DTSTAMP:20200924T181407Z
ORGANIZER;CN=Trusted Firmware Public Meetings:mailto:linaro.org_havjv2figrh
 5egaiurb229pd8c@group.calendar.google.com
UID:7nt3ekfvm2v4257tifqvct4o5d@google.com
ATTENDEE;CUTYPE=INDIVIDUAL;ROLE=REQ-PARTICIPANT;PARTSTAT=NEEDS-ACTION;RSVP=
 TRUE;CN=Bill Fletcher;X-NUM-GUESTS=0:mailto:bill.fletcher@linaro.org
ATTENDEE;CUTYPE=INDIVIDUAL;ROLE=REQ-PARTICIPANT;PARTSTAT=NEEDS-ACTION;RSVP=
 TRUE;CN=Don Harbin;X-NUM-GUESTS=0:mailto:don.harbin@linaro.org
ATTENDEE;CUTYPE=INDIVIDUAL;ROLE=REQ-PARTICIPANT;PARTSTAT=NEEDS-ACTION;RSVP=
 TRUE;CN=tf-m@lists.trustedfirmware.org;X-NUM-GUESTS=0:mailto:tf-m@lists.tru
 stedfirmware.org
X-MICROSOFT-CDO-OWNERAPPTID:-29409946
CREATED:20200924T180922Z
DESCRIPTION:About TF-M Tech forum:<br><br><br>This is an open forum for any
 one to participate and it is not restricted to Trusted Firmware project mem
 bers. It will operate under the guidance of the TF TSC.<br><br>Feel free to
  forward it to colleagues.<br><br>Details of previous meetings are here:&nb
 sp\;<a href="https://www.trustedfirmware.org/meetings/tf-m-technical-forum/
 ">https://www.trustedfirmware.org/meetings/tf-m-technical-forum/</a><br><br
 >Trusted Firmware is inviting you to a scheduled Zoom meeting.<br><br>Join 
 Zoom Meeting<br><a href="https://zoom.us/j/9159704974">https://zoom.us/j/91
 59704974</a><br><br>Meeting ID: 915 970 4974<br><br>One tap mobile<br><a>+1
 6465588656</a>\,\,9159704974# US (New York)<br><a>+16699009128</a>\,\,91597
 04974# US (San Jose)<br><br>Dial by your location<br>&nbsp\; &nbsp\; &nbsp\
 ; &nbsp\;&nbsp\;<a>+1 646 558 8656</a>&nbsp\;US (New York)<br>&nbsp\; &nbsp
 \; &nbsp\; &nbsp\;&nbsp\;<a>+1 669 900 9128</a>&nbsp\;US (San Jose)<br>&nbs
 p\; &nbsp\; &nbsp\; &nbsp\; 877 853 5247 US Toll-free<br>&nbsp\; &nbsp\; &n
 bsp\; &nbsp\; 888 788 0099 US Toll-free<br>Meeting ID: 915 970 4974<br>Find
  your local number:&nbsp\;<a href="https://zoom.us/u/ad27hc6t7h">https://zo
 om.us/u/ad27hc6t7h</a>&nbsp\;&nbsp\;\n\n-::~:~::~:~:~:~:~:~:~:~:~:~:~:~:~:~
 :~:~:~:~:~:~:~:~:~:~:~:~:~:~:~:~:~:~:~:~:~:~::~:~::-\nPlease do not edit th
 is section of the description.\n\nView your event at https://www.google.com
 /calendar/event?action=VIEW&eid=N250M2VrZnZtMnY0MjU3dGlmcXZjdDRvNWQgdGYtbUB
 saXN0cy50cnVzdGVkZmlybXdhcmUub3Jn&tok=NjMjbGluYXJvLm9yZ19oYXZqdjJmaWdyaDVlZ
 2FpdXJiMjI5cGQ4Y0Bncm91cC5jYWxlbmRhci5nb29nbGUuY29tMzI2ZDYyZTlhMmVmZWI5NGFm
 YzkyYTc5OGI1MjIwZWU4NjcyMjEzZA&ctz=Europe%2FLondon&hl=en_GB&es=1.\n-::~:~::
 ~:~:~:~:~:~:~:~:~:~:~:~:~:~:~:~:~:~:~:~:~:~:~:~:~:~:~:~:~:~:~:~:~:~:~:~::~:
 ~::-
LAST-MODIFIED:20200924T181405Z
LOCATION:
SEQUENCE:1
STATUS:CONFIRMED
SUMMARY:TF-M Tech Forum
TRANSP:OPAQUE
END:VEVENT
END:VCALENDAR
