BEGIN:VCALENDAR
METHOD:REQUEST
PRODID:Microsoft Exchange Server 2010
VERSION:2.0
BEGIN:VTIMEZONE
TZID:Romance Standard Time
BEGIN:STANDARD
DTSTART:16010101T030000
TZOFFSETFROM:+0200
TZOFFSETTO:+0100
RRULE:FREQ=YEARLY;INTERVAL=1;BYDAY=-1SU;BYMONTH=10
END:STANDARD
BEGIN:DAYLIGHT
DTSTART:16010101T020000
TZOFFSETFROM:+0100
TZOFFSETTO:+0200
RRULE:FREQ=YEARLY;INTERVAL=1;BYDAY=-1SU;BYMONTH=3
END:DAYLIGHT
END:VTIMEZONE
BEGIN:VEVENT
ORGANIZER;CN=Olivier Deprez:mailto:Olivier.Deprez@arm.com
ATTENDEE;ROLE=REQ-PARTICIPANT;PARTSTAT=NEEDS-ACTION;RSVP=TRUE;CN=tf-a@lists
 .trustedfirmware.org:mailto:tf-a@lists.trustedfirmware.org
DESCRIPTION;LANGUAGE=en-GB:\n Olivier Deprez is inviting you to a scheduled
  Zoom meeting.\n\nJoin Zoom Meeting\nhttps://armltd.zoom.us/j/95599443425?
 pwd=UTRIZ2xSSHJ3K1EreHpkRmlDWmppdz09&from=addon\n\nMeeting ID: 955 9944 34
 25\nPasscode: 572750\n\n---\n\nOne tap mobile\n+442034815240\,\,9559944342
 5#\,\,\,\,*572750# United Kingdom\n\n---\n\nDial by your location\n• +44
  203 481 5240 United Kingdom\n• +1 408 638 0968 US (San Jose)\n• +1 64
 6 518 9805 US (New York)\n• +1 346 248 7799 US (Houston)\n• +91 806 48
 0 2722 India\n• +91 116 480 2722 India\n• +91 224 879 8012 India\n• 
 +91 406 480 2722 India\n• +852 5803 3730 Hong Kong SAR\n• +46 8 4468 2
 488 Sweden\n• +47 2400 4735 Norway\n• +972 3 978 6688 Israel\n• +353
  1 536 9320 Ireland\n• +36 1 408 8456 Hungary\n• +49 69 3807 9883 Germ
 any\n• +33 1 7037 2246 France\n• +358 3 4109 2129 Finland\n• +45 32 
 70 12 06 Denmark\n• +1 438 809 7799 Canada\n• +82 2 3143 9611 Korea\, 
 Republic of\n• +65 3158 7288 Singapore\n• +27 87 550 3946 South Africa
 \n• +32 1579 5132 Belgium\n• +48 22 307 3488 Poland\n• +386 1600 310
 2 Slovenia\n• +60 3 3099 2229 Malaysia\n• +886 (2) 7741 7473 Taiwan\n
 • +81 3 4578 1488 Japan\n\nMeeting ID: 955 9944 3425\nPasscode: 572750\n
 \nFind your local number: https://armltd.zoom.us/u/as6SKF17s\n\n---\n\nJoi
 n by SIP\n• 95599443425@zoomcrc.com\n\n---\n\nJoin by H.323\n• 162.255
 .37.11 (US West)\n• 162.255.36.11 (US East)\n• 115.114.131.7 (India Mu
 mbai)\n• 115.114.115.7 (India Hyderabad)\n• 213.19.144.110 (Amsterdam 
 Netherlands)\n• 213.244.140.110 (Germany)\n• 103.122.166.55 (Australia
  Sydney)\n• 103.122.167.55 (Australia Melbourne)\n• 209.9.211.110 (Hon
 g Kong SAR)\n• 149.137.40.110 (Singapore)\n• 64.211.144.160 (Brazil)\n
 • 69.174.57.160 (Canada Toronto)\n• 65.39.152.160 (Canada Vancouver)\n
 • 207.226.132.110 (Japan Tokyo)\n• 149.137.24.110 (Japan Osaka)\n\nMee
 ting ID: 955 9944 3425\nPasscode: 572750\n\n
UID:040000008200E00074C5B7101A82E008000000004412AC8A99B5D901000000000000000
 0100000009B5E136086DD4C46B898B11EC2CAEA23
SUMMARY;LANGUAGE=en-GB:TF-A Tech Forum Jul 13th
DTSTART;TZID=Romance Standard Time:20230713T170000
DTEND;TZID=Romance Standard Time:20230713T180000
CLASS:PUBLIC
PRIORITY:5
DTSTAMP:20230713T145616Z
TRANSP:OPAQUE
STATUS:CONFIRMED
SEQUENCE:0
LOCATION;LANGUAGE=en-GB:https://armltd.zoom.us/j/95599443425?pwd=UTRIZ2xSSH
 J3K1EreHpkRmlDWmppdz09&from=addon
X-MICROSOFT-CDO-APPT-SEQUENCE:0
X-MICROSOFT-CDO-OWNERAPPTID:2121756484
X-MICROSOFT-CDO-BUSYSTATUS:TENTATIVE
X-MICROSOFT-CDO-INTENDEDSTATUS:BUSY
X-MICROSOFT-CDO-ALLDAYEVENT:FALSE
X-MICROSOFT-CDO-IMPORTANCE:1
X-MICROSOFT-CDO-INSTTYPE:0
X-MICROSOFT-DONOTFORWARDMEETING:FALSE
X-MICROSOFT-DISALLOW-COUNTER:FALSE
X-MICROSOFT-LOCATIONDISPLAYNAME:https://armltd.zoom.us/j/95599443425?pwd=UT
 RIZ2xSSHJ3K1EreHpkRmlDWmppdz09&from=addon
X-MICROSOFT-LOCATIONSOURCE:None
X-MICROSOFT-LOCATIONS:[{"DisplayName":"https://armltd.zoom.us/j/95599443425
 ?pwd=UTRIZ2xSSHJ3K1EreHpkRmlDWmppdz09&from=addon"\,"LocationAnnotation":""
 \,"LocationUri":""\,"LocationStreet":""\,"LocationCity":""\,"LocationState
 ":""\,"LocationCountry":""\,"LocationPostalCode":""\,"LocationFullAddress"
 :""}]
END:VEVENT
END:VCALENDAR
