BEGIN:VCALENDAR
PRODID:-//Google Inc//Google Calendar 70.9054//EN
VERSION:2.0
CALSCALE:GREGORIAN
METHOD:REQUEST
BEGIN:VTIMEZONE
TZID:Europe/London
X-LIC-LOCATION:Europe/London
BEGIN:DAYLIGHT
TZOFFSETFROM:+0000
TZOFFSETTO:+0100
TZNAME:BST
DTSTART:19700329T010000
RRULE:FREQ=YEARLY;BYMONTH=3;BYDAY=-1SU
END:DAYLIGHT
BEGIN:STANDARD
TZOFFSETFROM:+0100
TZOFFSETTO:+0000
TZNAME:GMT
DTSTART:19701025T020000
RRULE:FREQ=YEARLY;BYMONTH=10;BYDAY=-1SU
END:STANDARD
END:VTIMEZONE
BEGIN:VEVENT
DTSTART;TZID=Europe/London:20230420T160000
DTEND;TZID=Europe/London:20230420T170000
DTSTAMP:20230406T144855Z
ORGANIZER;CN=Trusted Firmware Public Meetings:mailto:linaro.org_havjv2figrh
 5egaiurb229pd8c@group.calendar.google.com
UID:5inoq0vmm2i5q2k1914rt1gjd2@google.com
ATTENDEE;CUTYPE=INDIVIDUAL;ROLE=REQ-PARTICIPANT;PARTSTAT=ACCEPTED;RSVP=TRUE
 ;CN=marek.bykowski@gmail.com;X-NUM-GUESTS=0:mailto:marek.bykowski@gmail.com
ATTENDEE;CUTYPE=INDIVIDUAL;ROLE=REQ-PARTICIPANT;PARTSTAT=ACCEPTED;RSVP=TRUE
 ;CN=okash.khawaja@gmail.com;X-NUM-GUESTS=0:mailto:okash.khawaja@gmail.com
ATTENDEE;CUTYPE=INDIVIDUAL;ROLE=REQ-PARTICIPANT;PARTSTAT=ACCEPTED;RSVP=TRUE
 ;CN=tf-a@lists.trustedfirmware.org;X-NUM-GUESTS=0:mailto:tf-a@lists.trusted
 firmware.org
X-MICROSOFT-CDO-OWNERAPPTID:2055367088
RECURRENCE-ID;TZID=Europe/London:20230420T160000
CREATED:20200611T093635Z
DESCRIPTION:Reserving for a discussion on Signer-id Extraction Design for M
 anish <span>Badarkhe. </span><br><span><br></span><br><span><span>More deta
 ils of this session will be sent </span>closer<span> to the session date.</
 span></span><br><br><br>-----------------<br><br><br>We run an open technic
 al forum call for anyone to participate and it is not restricted to Trusted
  Firmware project members. It will operate under the guidance of the TF TSC
 . <br><br>Feel free to forward this invite to colleagues. Invites are via t
 he TF-A mailing list and also published on the Trusted Firmware website. De
 tails are here: <a href="https://www.trustedfirmware.org/meetings/tf-a-tech
 nical-forum/">https://www.trustedfirmware.org/meetings/tf-a-technical-forum
 /</a><br><br>Trusted Firmware is inviting you to a scheduled Zoom meeting.<
 br><br>Join Zoom Meeting<br><a href="https://zoom.us/j/9159704974">https://
 zoom.us/j/9159704974</a><br><br>Meeting ID: 915 970 4974<br><br>One tap mob
 ile<br><a></a><a>+16465588656</a>\,\,9159704974# US (New York)<br><a></a><a
 >+16699009128</a>\,\,9159704974# US (San Jose)<br><br>Dial by your location
 <br>        <a></a><a>+1 646 558 8656</a> US (New York)<br>        <a></a><
 a>+1 669 900 9128</a> US (San Jose)<br>        877 853 5247 US Toll-free<br
 >        888 788 0099 US Toll-free<br>Meeting ID: 915 970 4974<br>Find your
  local number: <a href="https://zoom.us/u/ad27hc6t7h">https://zoom.us/u/ad2
 7hc6t7h</a>
LAST-MODIFIED:20230406T144854Z
LOCATION:
SEQUENCE:0
STATUS:CONFIRMED
SUMMARY:TF-A Tech Forum
TRANSP:OPAQUE
END:VEVENT
END:VCALENDAR
