BEGIN:VCALENDAR
PRODID:-//Google Inc//Google Calendar 70.9054//EN
VERSION:2.0
CALSCALE:GREGORIAN
METHOD:REQUEST
BEGIN:VTIMEZONE
TZID:Europe/London
X-LIC-LOCATION:Europe/London
BEGIN:DAYLIGHT
TZOFFSETFROM:+0000
TZOFFSETTO:+0100
TZNAME:BST
DTSTART:19700329T010000
RRULE:FREQ=YEARLY;BYMONTH=3;BYDAY=-1SU
END:DAYLIGHT
BEGIN:STANDARD
TZOFFSETFROM:+0100
TZOFFSETTO:+0000
TZNAME:GMT
DTSTART:19701025T020000
RRULE:FREQ=YEARLY;BYMONTH=10;BYDAY=-1SU
END:STANDARD
END:VTIMEZONE
BEGIN:VEVENT
DTSTART;TZID=Europe/London:20221215T160000
DTEND;TZID=Europe/London:20221215T170000
DTSTAMP:20221129T171852Z
ORGANIZER;CN=Trusted Firmware Public Meetings:mailto:linaro.org_havjv2figrh
 5egaiurb229pd8c@group.calendar.google.com
UID:5inoq0vmm2i5q2k1914rt1gjd2@google.com
ATTENDEE;CUTYPE=INDIVIDUAL;ROLE=REQ-PARTICIPANT;PARTSTAT=ACCEPTED;RSVP=TRUE
 ;CN=marek.bykowski@gmail.com;X-NUM-GUESTS=0:mailto:marek.bykowski@gmail.com
ATTENDEE;CUTYPE=INDIVIDUAL;ROLE=REQ-PARTICIPANT;PARTSTAT=ACCEPTED;RSVP=TRUE
 ;CN=okash.khawaja@gmail.com;X-NUM-GUESTS=0:mailto:okash.khawaja@gmail.com
ATTENDEE;CUTYPE=INDIVIDUAL;ROLE=REQ-PARTICIPANT;PARTSTAT=ACCEPTED;RSVP=TRUE
 ;CN=tf-a@lists.trustedfirmware.org;X-NUM-GUESTS=0:mailto:tf-a@lists.trusted
 firmware.org
X-MICROSOFT-CDO-OWNERAPPTID:1329445855
RECURRENCE-ID;TZID=Europe/London:20221215T160000
CREATED:20200611T093635Z
DESCRIPTION:<html-blob><br></html-blob><br><html-blob><u><b>NOTE this is fo
 r 15th December 2022</b></u></html-blob><br><html-blob><u><b><br></b></u></
 html-blob><br><html-blob>Following the recent addition of QEMU support in T
 F-A OpenCI [1]\, we'd like to:</html-blob><br><html-blob><div dir="auto"><b
 lockquote><span style="background-color: var(--textfield-surface)\; color: 
 var(--on-surface)\;">Do a quick demo on how to navigate the OpenCI services
  (Jenkins\, LAVA) and find the QEMU boot tests results.</span><br></blockqu
 ote><ul><li>Possibly do a quick demo on how to run these tests on your loca
 l machine through TF-A CI scripts.</li><li>Give a high-level overview of th
 e changes in TF-A CI scripts and OpenCI infrastructure that made this possi
 ble.<span style="color: var(--on-surface)\; background-color: var(--textfie
 ld-surface)\;">Following the recent addition of QEMU support in TF-A OpenCI
  [1]\, we'd like to:</span></li></ul></html-blob><br><html-blob>[1]&nbsp\;<
 /html-blob><span style="background-color: var(--textfield-surface)\; color:
  var(--on-surface)\;">&nbsp\;</span><a href="https://lists.trustedfirmware.
 org/archives/list/tf-a@lists.trustedfirmware.org/thread/5UV642AARIAF4EODMV4
 S5I4UDF3HE2DW/"><u>https://lists.trustedfirmware.org/archives/list/tf-a@lis
 ts.trustedfirmware.org/thread/5UV642AARIAF4EODMV4S5I4UDF3HE2DW/</u></a><br>
 <html-blob><br></html-blob><br><html-blob><br></html-blob><br><html-blob>==
 ===============================================</html-blob><br><html-blob><
 br></html-blob><br><html-blob><br></html-blob><br><html-blob>We run an open
  technical forum call for anyone to participate and it is not restricted to
  Trusted Firmware project members. It will operate under the guidance of th
 e TF TSC.&nbsp\;<br><br>Feel free to forward this invite to colleagues. Inv
 ites are via the TF-A mailing list and also published on the Trusted Firmwa
 re website.&nbsp\;Details are here:&nbsp\;<a href="https://www.trustedfirmw
 are.org/meetings/tf-a-technical-forum/">https://www.trustedfirmware.org/mee
 tings/tf-a-technical-forum/</a><br><br>Trusted Firmware is inviting you to 
 a scheduled Zoom meeting.<br><br>Join Zoom Meeting<br><a href="https://zoom
 .us/j/9159704974">https://zoom.us/j/9159704974</a><br><br>Meeting ID: 915 9
 70 4974<br><br>One tap mobile<br><a></a><a>+16465588656</a>\,\,9159704974# 
 US (New York)<br><a></a><a>+16699009128</a>\,\,9159704974# US (San Jose)<br
 ><br>Dial by your location<br>&nbsp\; &nbsp\; &nbsp\; &nbsp\;&nbsp\;<a></a>
 <a>+1 646 558 8656</a>&nbsp\;US (New York)<br>&nbsp\; &nbsp\; &nbsp\; &nbsp
 \;&nbsp\;<a></a><a>+1 669 900 9128</a>&nbsp\;US (San Jose)<br>&nbsp\; &nbsp
 \; &nbsp\; &nbsp\; 877 853 5247 US Toll-free<br>&nbsp\; &nbsp\; &nbsp\; &nb
 sp\; 888 788 0099 US Toll-free<br>Meeting ID: 915 970 4974<br>Find your loc
 al number:&nbsp\;<a href="https://zoom.us/u/ad27hc6t7h">https://zoom.us/u/a
 d27hc6t7h</a>&nbsp\;&nbsp\;</html-blob>
LAST-MODIFIED:20221129T171850Z
LOCATION:
SEQUENCE:0
STATUS:CONFIRMED
SUMMARY:TF-A Tech Forum
TRANSP:OPAQUE
END:VEVENT
END:VCALENDAR
