BEGIN:VCALENDAR
PRODID:-//Google Inc//Google Calendar 70.9054//EN
VERSION:2.0
CALSCALE:GREGORIAN
METHOD:REQUEST
BEGIN:VTIMEZONE
TZID:Europe/London
X-LIC-LOCATION:Europe/London
BEGIN:DAYLIGHT
TZOFFSETFROM:+0000
TZOFFSETTO:+0100
TZNAME:BST
DTSTART:19700329T010000
RRULE:FREQ=YEARLY;BYMONTH=3;BYDAY=-1SU
END:DAYLIGHT
BEGIN:STANDARD
TZOFFSETFROM:+0100
TZOFFSETTO:+0000
TZNAME:GMT
DTSTART:19701025T020000
RRULE:FREQ=YEARLY;BYMONTH=10;BYDAY=-1SU
END:STANDARD
END:VTIMEZONE
BEGIN:VEVENT
DTSTART;TZID=Europe/London:20230814T100000
DTEND;TZID=Europe/London:20230814T105000
RRULE:FREQ=WEEKLY;WKST=SU;COUNT=3;INTERVAL=4;BYDAY=MO
DTSTAMP:20230731T161430Z
ORGANIZER;CN=Trusted Firmware Public Meetings:mailto:linaro.org_havjv2figrh
 5egaiurb229pd8c@group.calendar.google.com
UID:315prndlp01hrkd5099o4voufl_R20230814T090000@google.com
ATTENDEE;CUTYPE=INDIVIDUAL;ROLE=REQ-PARTICIPANT;PARTSTAT=NEEDS-ACTION;RSVP=
 TRUE;CN=nnac123@gmail.com;X-NUM-GUESTS=0:mailto:nnac123@gmail.com
ATTENDEE;CUTYPE=INDIVIDUAL;ROLE=REQ-PARTICIPANT;PARTSTAT=DECLINED;RSVP=TRUE
 ;CN=santosdanillo@gmail.com;X-NUM-GUESTS=0:mailto:santosdanillo@gmail.com
ATTENDEE;CUTYPE=INDIVIDUAL;ROLE=REQ-PARTICIPANT;PARTSTAT=NEEDS-ACTION;RSVP=
 TRUE;CN=schoenle.thomas@googlemail.com;X-NUM-GUESTS=0:mailto:schoenle.thoma
 s@googlemail.com
ATTENDEE;CUTYPE=INDIVIDUAL;ROLE=REQ-PARTICIPANT;PARTSTAT=NEEDS-ACTION;RSVP=
 TRUE;CN=psa-crypto@lists.trustedfirmware.org;X-NUM-GUESTS=0:mailto:psa-cryp
 to@lists.trustedfirmware.org
ATTENDEE;CUTYPE=INDIVIDUAL;ROLE=REQ-PARTICIPANT;PARTSTAT=NEEDS-ACTION;RSVP=
 TRUE;CN=mbed-tls@lists.trustedfirmware.org;X-NUM-GUESTS=0:mailto:mbed-tls@l
 ists.trustedfirmware.org
ATTENDEE;CUTYPE=INDIVIDUAL;ROLE=REQ-PARTICIPANT;PARTSTAT=NEEDS-ACTION;RSVP=
 TRUE;CN=don.harbin@linaro.org;X-NUM-GUESTS=0:mailto:don.harbin@linaro.org
ATTENDEE;CUTYPE=INDIVIDUAL;ROLE=REQ-PARTICIPANT;PARTSTAT=DECLINED;RSVP=TRUE
 ;CN=kris.kwiatkowski@pqshield.com;X-NUM-GUESTS=0:mailto:kris.kwiatkowski@pq
 shield.com
X-MICROSOFT-CDO-OWNERAPPTID:-1942201123
CREATED:20211021T131726Z
DESCRIPTION:Trusted Firmware is inviting you to a scheduled Zoom meeting.<b
 r><br>Topic: MBed TLS - Asis<br>Time: Aug 14\, 2023 10:00 AM London<br>    
     Every 4 weeks on Mon\, 20 occurrence(s)<br>        Aug 14\, 2023 10:00 
 AM<br>        Sep 11\, 2023 10:00 AM<br>        Oct 9\, 2023 10:00 AM<br>  
       Nov 6\, 2023 10:00 AM<br>        Dec 4\, 2023 10:00 AM<br>        Jan
  1\, 2024 10:00 AM<br>        Jan 29\, 2024 10:00 AM<br>        Feb 26\, 20
 24 10:00 AM<br>        Mar 25\, 2024 10:00 AM<br>        Apr 22\, 2024 10:0
 0 AM<br>        May 20\, 2024 10:00 AM<br>        Jun 17\, 2024 10:00 AM<br
 >        Jul 15\, 2024 10:00 AM<br>        Aug 12\, 2024 10:00 AM<br>      
   Sep 9\, 2024 10:00 AM<br>        Oct 7\, 2024 10:00 AM<br>        Nov 4\,
  2024 10:00 AM<br>        Dec 2\, 2024 10:00 AM<br>        Dec 30\, 2024 10
 :00 AM<br>        Jan 27\, 2025 10:00 AM<br>Please download and import the 
 following iCalendar (.ics) files to your calendar system.<br>Weekly: <a hre
 f="https://linaro-org.zoom.us/meeting/tJEpcOivrT4jGtzyd1M9ASL221VfGUYcCKhw/
 ics?icsToken=98tyKuCtqjwrHdeQuRmPRowMBo_Cd-3ztiVEjbdHhRu0LnlyUS-kZLN0NJVKKd
 vz">https://linaro-org.zoom.us/meeting/tJEpcOivrT4jGtzyd1M9ASL221VfGUYcCKhw
 /ics?icsToken=98tyKuCtqjwrHdeQuRmPRowMBo_Cd-3ztiVEjbdHhRu0LnlyUS-kZLN0NJVKK
 dvz</a><br><br>Join Zoom Meeting<br><a href="https://linaro-org.zoom.us/j/9
 5471735908?pwd=WStaaWhEVXNqcWx1S2pEQU13cHU2UT09">https://linaro-org.zoom.us
 /j/95471735908?pwd=WStaaWhEVXNqcWx1S2pEQU13cHU2UT09</a><br><br>Meeting ID: 
 954 7173 5908<br>Passcode: 300608<br><br>---<br><br>One tap mobile<br>+1346
 2487799\,\,95471735908# US (Houston)<br>+16694449171\,\,95471735908# US<br>
 <br>---<br><br>Dial by your location<br>• +1 346 248 7799 US (Houston)<br>•
  +1 669 444 9171 US<br>• +1 669 900 9128 US (San Jose)<br>• +1 719 359 4580
  US<br>• +1 253 205 0468 US<br>• +1 253 215 8782 US (Tacoma)<br>• +1 305 22
 4 1968 US<br>• +1 309 205 3325 US<br>• +1 312 626 6799 US (Chicago)<br>• +1
  360 209 5623 US<br>• +1 386 347 5053 US<br>• +1 507 473 4847 US<br>• +1 56
 4 217 2000 US<br>• +1 646 558 8656 US (New York)<br>• +1 646 931 3860 US<br
 >• +1 689 278 1000 US<br>• +1 301 715 8592 US (Washington DC)<br>• 877 853 
 5247 US Toll-free<br>• 888 788 0099 US Toll-free<br><br>Meeting ID: 954 717
 3 5908<br><br>Find your local number: <a href="https://linaro-org.zoom.us/u
 /aEkjrvuAZ">https://linaro-org.zoom.us/u/aEkjrvuAZ</a>
LAST-MODIFIED:20230731T161427Z
LOCATION:
SEQUENCE:4
STATUS:CONFIRMED
SUMMARY:MBed TLS Technical Forum - Asia
TRANSP:OPAQUE
END:VEVENT
END:VCALENDAR
